BEGIN:VCALENDAR
VERSION:2.0
PRODID:-//Associazione San Luigi Gonzaga ONLUS - ECPv5.16.3.1//NONSGML v1.0//EN
CALSCALE:GREGORIAN
METHOD:PUBLISH
X-WR-CALNAME:Associazione San Luigi Gonzaga ONLUS
X-ORIGINAL-URL:https://associazionesanluigi.it
X-WR-CALDESC:Eventi per Associazione San Luigi Gonzaga ONLUS
REFRESH-INTERVAL;VALUE=DURATION:PT1H
X-Robots-Tag:noindex
X-PUBLISHED-TTL:PT1H
BEGIN:VTIMEZONE
TZID:UTC
BEGIN:STANDARD
TZOFFSETFROM:+0000
TZOFFSETTO:+0000
TZNAME:UTC
DTSTART:20200101T000000
END:STANDARD
END:VTIMEZONE
BEGIN:VEVENT
DTSTART;TZID=UTC:20201221T123000
DTEND;TZID=UTC:20201221T140000
DTSTAMP:20260420T092545
CREATED:20210120T092927Z
LAST-MODIFIED:20210120T092927Z
UID:2470-1608553800-1608559200@associazionesanluigi.it
SUMMARY:Auguri in musica
DESCRIPTION:Ore 12.30 – davanti al Padiglione II (retro Pronto Soccorso) \nOre 13.00 – davanti al Padiglione III e Hospice \nOre 13.30 – davanti al Padiglione I “Giardino dei tulipani”
URL:https://associazionesanluigi.it/event/auguri-in-musica/
LOCATION:Associazione San Luigi Gonzaga Onlus\, Regione Gonzole\, 10\, Orbassano\, TO\, 10043\, Italia
CATEGORIES:associazione
ATTACH;FMTTYPE=image/jpeg:https://associazionesanluigi.it/wp-content/uploads/2021/01/131900901_2262835313861098_2175800027287735486_o.jpg
ORGANIZER;CN="Associazione%20San%20Luigi":MAILTO:info@associazionesanluigi
END:VEVENT
END:VCALENDAR